BEGIN:VCALENDAR
VERSION:2.0
PRODID:-//ZSO EMME - ECPv6.15.18//NONSGML v1.0//EN
CALSCALE:GREGORIAN
METHOD:PUBLISH
X-WR-CALNAME:ZSO EMME
X-ORIGINAL-URL:https://www.zsoemme.ch
X-WR-CALDESC:Veranstaltungen für ZSO EMME
REFRESH-INTERVAL;VALUE=DURATION:PT1H
X-Robots-Tag:noindex
X-PUBLISHED-TTL:PT1H
BEGIN:VTIMEZONE
TZID:Europe/Paris
BEGIN:DAYLIGHT
TZOFFSETFROM:+0100
TZOFFSETTO:+0200
TZNAME:CEST
DTSTART:20230326T010000
END:DAYLIGHT
BEGIN:STANDARD
TZOFFSETFROM:+0200
TZOFFSETTO:+0100
TZNAME:CET
DTSTART:20231029T010000
END:STANDARD
BEGIN:DAYLIGHT
TZOFFSETFROM:+0100
TZOFFSETTO:+0200
TZNAME:CEST
DTSTART:20240331T010000
END:DAYLIGHT
BEGIN:STANDARD
TZOFFSETFROM:+0200
TZOFFSETTO:+0100
TZNAME:CET
DTSTART:20241027T010000
END:STANDARD
BEGIN:DAYLIGHT
TZOFFSETFROM:+0100
TZOFFSETTO:+0200
TZNAME:CEST
DTSTART:20250330T010000
END:DAYLIGHT
BEGIN:STANDARD
TZOFFSETFROM:+0200
TZOFFSETTO:+0100
TZNAME:CET
DTSTART:20251026T010000
END:STANDARD
END:VTIMEZONE
BEGIN:VEVENT
DTSTART;TZID=Europe/Paris:20241213T090000
DTEND;TZID=Europe/Paris:20241213T180000
DTSTAMP:20260422T183744
CREATED:20240126T064713Z
LAST-MODIFIED:20240126T091524Z
UID:8064-1734080400-1734112800@www.zsoemme.ch
SUMMARY:WK 12 Drohnen Unterhalt (WDL)
DESCRIPTION:
URL:https://www.zsoemme.ch/kalender/wk-12-drohnen-unterhalt-wdl/
LOCATION:Gemäss Aufgebot
CATEGORIES:FU,FU Zug 2
END:VEVENT
BEGIN:VEVENT
DTSTART;TZID=Europe/Paris:20241212T090000
DTEND;TZID=Europe/Paris:20241212T180000
DTSTAMP:20260422T183744
CREATED:20240126T064711Z
LAST-MODIFIED:20240126T115450Z
UID:8063-1733994000-1734026400@www.zsoemme.ch
SUMMARY:WK 5 Anlagewartung klein Rothenburg / Rain
DESCRIPTION:
URL:https://www.zsoemme.ch/kalender/wk-5-anlagewartung-klein-rothenburg-rain/
LOCATION:BSA / Schulhaus Konstanz
CATEGORIES:Logistik
END:VEVENT
BEGIN:VEVENT
DTSTART;TZID=Europe/Paris:20241211T090000
DTEND;TZID=Europe/Paris:20241211T180000
DTSTAMP:20260422T183744
CREATED:20240126T064657Z
LAST-MODIFIED:20240126T115450Z
UID:8062-1733907600-1733940000@www.zsoemme.ch
SUMMARY:WK 4 Anlagewartung klein Meggen
DESCRIPTION:
URL:https://www.zsoemme.ch/kalender/wk-4-anlagewartung-klein-meggen/
LOCATION:Gesch San Stelle Meggen
CATEGORIES:Logistik
END:VEVENT
BEGIN:VEVENT
DTSTART;TZID=Europe/Paris:20241210T090000
DTEND;TZID=Europe/Paris:20241210T180000
DTSTAMP:20260422T183744
CREATED:20240126T064656Z
LAST-MODIFIED:20240126T115450Z
UID:8061-1733821200-1733853600@www.zsoemme.ch
SUMMARY:WK 4 Anlagewartung klein Hochdorf
DESCRIPTION:
URL:https://www.zsoemme.ch/kalender/wk-4-anlagewartung-klein-hochdorf/
LOCATION:KP Schulhaus Sagen
CATEGORIES:Logistik
END:VEVENT
BEGIN:VEVENT
DTSTART;TZID=Europe/Paris:20241209T090000
DTEND;TZID=Europe/Paris:20241209T180000
DTSTAMP:20260422T183744
CREATED:20240126T064655Z
LAST-MODIFIED:20240126T115450Z
UID:8060-1733734800-1733767200@www.zsoemme.ch
SUMMARY:WK 4 Anlagewartung klein Udligenswil / Vitznau
DESCRIPTION:
URL:https://www.zsoemme.ch/kalender/wk-4-anlagewartung-klein-udligenswil-vitznau/
LOCATION:ZS-Anlage Schürmatt Udligenswil
CATEGORIES:Logistik
END:VEVENT
BEGIN:VEVENT
DTSTART;TZID=Europe/Paris:20241206T090000
DTEND;TZID=Europe/Paris:20241206T180000
DTSTAMP:20260422T183744
CREATED:20240126T064654Z
LAST-MODIFIED:20240126T115450Z
UID:8059-1733475600-1733508000@www.zsoemme.ch
SUMMARY:WK 4 Anlagewartung klein Ebikon Wydenhof
DESCRIPTION:
URL:https://www.zsoemme.ch/kalender/wk-4-anlagewartung-klein-ebikon-wydenhof/
LOCATION:KP Wydenhof Ebikon
CATEGORIES:Logistik
END:VEVENT
BEGIN:VEVENT
DTSTART;TZID=Europe/Paris:20241206T080000
DTEND;TZID=Europe/Paris:20241206T180000
DTSTAMP:20260422T183744
CREATED:20240126T064653Z
LAST-MODIFIED:20240126T070759Z
UID:8058-1733472000-1733508000@www.zsoemme.ch
SUMMARY:WK 2 FU am WBK KEL
DESCRIPTION:
URL:https://www.zsoemme.ch/kalender/wk-2-fu-am-wbk-kel/
LOCATION:Stützpunkt N20a\, Neuenkirchstrasse 20a\, Emmen\, 6020\, Switzerland
CATEGORIES:FU
END:VEVENT
BEGIN:VEVENT
DTSTART;TZID=Europe/Paris:20241205T090000
DTEND;TZID=Europe/Paris:20241205T180000
DTSTAMP:20260422T183744
CREATED:20240126T064636Z
LAST-MODIFIED:20240126T115450Z
UID:8057-1733389200-1733421600@www.zsoemme.ch
SUMMARY:WK 4 Anlagewartung klein Ebikon Feldmatt/Sagenhof
DESCRIPTION:
URL:https://www.zsoemme.ch/kalender/wk-4-anlagewartung-klein-ebikon-feldmatt-sagenhof/
LOCATION:BSA Feldmatt Ebikon
CATEGORIES:Logistik
END:VEVENT
BEGIN:VEVENT
DTSTART;TZID=Europe/Paris:20241204T090000
DTEND;TZID=Europe/Paris:20241204T180000
DTSTAMP:20260422T183744
CREATED:20240126T064635Z
LAST-MODIFIED:20240126T115449Z
UID:8056-1733302800-1733335200@www.zsoemme.ch
SUMMARY:WK 4 Anlagewartung klein Eschenbach / Inwil
DESCRIPTION:
URL:https://www.zsoemme.ch/kalender/wk-4-anlagewartung-klein-eschenbach-inwil/
LOCATION:BSA Inwil
CATEGORIES:Logistik
END:VEVENT
BEGIN:VEVENT
DTSTART;TZID=Europe/Paris:20241203T090000
DTEND;TZID=Europe/Paris:20241203T180000
DTSTAMP:20260422T183744
CREATED:20240126T064635Z
LAST-MODIFIED:20240126T115822Z
UID:8055-1733216400-1733248800@www.zsoemme.ch
SUMMARY:WK 2 BLS / AED
DESCRIPTION:
URL:https://www.zsoemme.ch/kalender/wk-2-bls-aed/
LOCATION:ZS-Ausbildungszentrum Sempach
CATEGORIES:Führung
END:VEVENT
BEGIN:VEVENT
DTSTART;TZID=Europe/Paris:20241203T090000
DTEND;TZID=Europe/Paris:20241203T180000
DTSTAMP:20260422T183744
CREATED:20240126T064633Z
LAST-MODIFIED:20240126T115449Z
UID:8054-1733216400-1733248800@www.zsoemme.ch
SUMMARY:WK 4 Anlagewartung klein Emmenbrücke
DESCRIPTION:
URL:https://www.zsoemme.ch/kalender/wk-4-anlagewartung-klein-emmenbrucke/
LOCATION:Stützpunkt N20a\, Neuenkirchstrasse 20a\, Emmen\, 6020\, Switzerland
CATEGORIES:Logistik
END:VEVENT
BEGIN:VEVENT
DTSTART;TZID=Europe/Paris:20241202T090000
DTEND;TZID=Europe/Paris:20241202T180000
DTSTAMP:20260422T183744
CREATED:20240126T064632Z
LAST-MODIFIED:20240126T115822Z
UID:8053-1733130000-1733162400@www.zsoemme.ch
SUMMARY:WK 1 BLS / AED
DESCRIPTION:
URL:https://www.zsoemme.ch/kalender/wk-1-bls-aed/
LOCATION:ZS-Ausbildungszentrum Sempach
CATEGORIES:Führung
END:VEVENT
BEGIN:VEVENT
DTSTART;TZID=Europe/Paris:20241202T090000
DTEND;TZID=Europe/Paris:20241202T180000
DTSTAMP:20260422T183744
CREATED:20240126T064611Z
LAST-MODIFIED:20240126T115449Z
UID:8052-1733130000-1733162400@www.zsoemme.ch
SUMMARY:WK 4 Anlagewartung klein Malters
DESCRIPTION:
URL:https://www.zsoemme.ch/kalender/wk-4-anlagewartung-klein-malters/
LOCATION:ZS-Anlage Oberei Malters
CATEGORIES:Logistik
END:VEVENT
BEGIN:VEVENT
DTSTART;TZID=Europe/Paris:20241122T090000
DTEND;TZID=Europe/Paris:20241122T180000
DTSTAMP:20260422T183744
CREATED:20240126T064611Z
LAST-MODIFIED:20240126T115822Z
UID:8051-1732266000-1732298400@www.zsoemme.ch
SUMMARY:Offiziersschlussrapport 2024
DESCRIPTION:
URL:https://www.zsoemme.ch/kalender/offiziersschlussrapport-2024/
LOCATION:Gemäss Aufgebot
CATEGORIES:Führung
END:VEVENT
BEGIN:VEVENT
DTSTART;TZID=Europe/Paris:20241121T193000
DTEND;TZID=Europe/Paris:20241121T213000
DTSTAMP:20260422T183744
CREATED:20240126T064610Z
LAST-MODIFIED:20240126T115822Z
UID:8050-1732217400-1732224600@www.zsoemme.ch
SUMMARY:GFS - Rapport 2 Adligenswil
DESCRIPTION:
URL:https://www.zsoemme.ch/kalender/gfs-rapport-2-adligenswil/
LOCATION:Feuerwehrgebäude Emmenbrücke
CATEGORIES:Führung
END:VEVENT
BEGIN:VEVENT
DTSTART;TZID=Europe/Paris:20241115T090000
DTEND;TZID=Europe/Paris:20241115T180000
DTSTAMP:20260422T183744
CREATED:20240126T064610Z
LAST-MODIFIED:20240126T080844Z
UID:8048-1731661200-1731693600@www.zsoemme.ch
SUMMARY:WK 10 Log Zug 8 Mat
DESCRIPTION:
URL:https://www.zsoemme.ch/kalender/wk-10-log-zug-8-mat/
LOCATION:Stützpunkt N20a\, Neuenkirchstrasse 20a\, Emmen\, 6020\, Switzerland
CATEGORIES:Logistik
END:VEVENT
BEGIN:VEVENT
DTSTART;TZID=Europe/Paris:20241115T090000
DTEND;TZID=Europe/Paris:20241115T180000
DTSTAMP:20260422T183744
CREATED:20240126T064610Z
LAST-MODIFIED:20240126T091524Z
UID:8049-1731661200-1731693600@www.zsoemme.ch
SUMMARY:WK 11 Drohnen Unterhalt (WDL)
DESCRIPTION:
URL:https://www.zsoemme.ch/kalender/wk-11-drohnen-unterhalt-wdl/
LOCATION:Gemäss Aufgebot
CATEGORIES:FU,FU Zug 2
END:VEVENT
BEGIN:VEVENT
DTSTART;TZID=Europe/Paris:20241114T090000
DTEND;TZID=Europe/Paris:20241114T180000
DTSTAMP:20260422T183744
CREATED:20240126T064552Z
LAST-MODIFIED:20240126T113440Z
UID:8046-1731574800-1731607200@www.zsoemme.ch
SUMMARY:WK 8 FU Zug 2 Infoteam
DESCRIPTION:
URL:https://www.zsoemme.ch/kalender/wk-8-fu-zug-2-infoteam/
LOCATION:Stützpunkt N20a\, Neuenkirchstrasse 20a\, Emmen\, 6020\, Switzerland
CATEGORIES:FU,FU Zug 2
END:VEVENT
BEGIN:VEVENT
DTSTART;TZID=Europe/Paris:20241114T090000
DTEND;TZID=Europe/Paris:20241114T180000
DTSTAMP:20260422T183744
CREATED:20240126T064552Z
LAST-MODIFIED:20240126T080844Z
UID:8047-1731574800-1731607200@www.zsoemme.ch
SUMMARY:WK 14 Log Zug 7 Mat
DESCRIPTION:
URL:https://www.zsoemme.ch/kalender/wk-14-log-zug-7-mat/
LOCATION:Stützpunkt N20a\, Neuenkirchstrasse 20a\, Emmen\, 6020\, Switzerland
CATEGORIES:Logistik
END:VEVENT
BEGIN:VEVENT
DTSTART;TZID=Europe/Paris:20241113T090000
DTEND;TZID=Europe/Paris:20241113T180000
DTSTAMP:20260422T183744
CREATED:20240126T064551Z
LAST-MODIFIED:20240126T080844Z
UID:8045-1731488400-1731520800@www.zsoemme.ch
SUMMARY:WK 3 Log Zug 7 & 8 Mat
DESCRIPTION:
URL:https://www.zsoemme.ch/kalender/wk-3-log-zug-7-8-mat/
LOCATION:Stützpunkt N20a\, Neuenkirchstrasse 20a\, Emmen\, 6020\, Switzerland
CATEGORIES:Logistik
END:VEVENT
BEGIN:VEVENT
DTSTART;TZID=Europe/Paris:20241111T090000
DTEND;TZID=Europe/Paris:20241113T180000
DTSTAMP:20260422T183744
CREATED:20240126T064550Z
LAST-MODIFIED:20240126T070535Z
UID:8043-1731315600-1731520800@www.zsoemme.ch
SUMMARY:WK 1 Betreu Ersatz - WK
DESCRIPTION:
URL:https://www.zsoemme.ch/kalender/wk-1-betreu-ersatz-wk/
LOCATION:Stützpunkt N20a\, Neuenkirchstrasse 20a\, Emmen\, 6020\, Switzerland
CATEGORIES:Betreu
END:VEVENT
BEGIN:VEVENT
DTSTART;TZID=Europe/Paris:20241111T090000
DTEND;TZID=Europe/Paris:20241112T180000
DTSTAMP:20260422T183744
CREATED:20240126T064547Z
LAST-MODIFIED:20240126T070758Z
UID:8042-1731315600-1731434400@www.zsoemme.ch
SUMMARY:WK 1 FU Ersatz - WK
DESCRIPTION:
URL:https://www.zsoemme.ch/kalender/wk-1-fu-ersatz-wk/
LOCATION:Stützpunkt N20a\, Neuenkirchstrasse 20a\, Emmen\, 6020\, Switzerland
CATEGORIES:FU
END:VEVENT
BEGIN:VEVENT
DTSTART;TZID=Europe/Paris:20241111T080000
DTEND;TZID=Europe/Paris:20241113T180000
DTSTAMP:20260422T183744
CREATED:20240126T064551Z
LAST-MODIFIED:20240126T085154Z
UID:8044-1731312000-1731520800@www.zsoemme.ch
SUMMARY:WK 32 Vsg Ersatz-WK FU & Betreu
DESCRIPTION:
URL:https://www.zsoemme.ch/kalender/wk-32-vsg-ersatz-wk-fu-betreu/
LOCATION:Stützpunkt N20a\, Neuenkirchstrasse 20a\, Emmen\, 6020\, Switzerland
CATEGORIES:Logistik
END:VEVENT
BEGIN:VEVENT
DTSTART;TZID=Europe/Paris:20241029T090000
DTEND;TZID=Europe/Paris:20241029T180000
DTSTAMP:20260422T183744
CREATED:20240126T064546Z
LAST-MODIFIED:20240126T113440Z
UID:8041-1730192400-1730224800@www.zsoemme.ch
SUMMARY:WK 7 FU Zug 2 Infoteam
DESCRIPTION:
URL:https://www.zsoemme.ch/kalender/wk-7-fu-zug-2-infoteam/
LOCATION:Stützpunkt N20a\, Neuenkirchstrasse 20a\, Emmen\, 6020\, Switzerland
CATEGORIES:FU,FU Zug 2
END:VEVENT
BEGIN:VEVENT
DTSTART;TZID=Europe/Paris:20241028T090000
DTEND;TZID=Europe/Paris:20241030T180000
DTSTAMP:20260422T183744
CREATED:20240126T064545Z
LAST-MODIFIED:20240126T113510Z
UID:8039-1730106000-1730311200@www.zsoemme.ch
SUMMARY:WK 2 FU Zug 3 KGS
DESCRIPTION:
URL:https://www.zsoemme.ch/kalender/wk-2-fu-zug-3-kgs/
LOCATION:Stützpunkt N20a\, Neuenkirchstrasse 20a\, Emmen\, 6020\, Switzerland
CATEGORIES:FU,Fu Zug 3
END:VEVENT
BEGIN:VEVENT
DTSTART;TZID=Europe/Paris:20241028T090000
DTEND;TZID=Europe/Paris:20241028T180000
DTSTAMP:20260422T183744
CREATED:20240126T064545Z
LAST-MODIFIED:20240126T070535Z
UID:8038-1730106000-1730138400@www.zsoemme.ch
SUMMARY:KVK 1 Betreu Ersatz - WK
DESCRIPTION:
URL:https://www.zsoemme.ch/kalender/kvk-1-betreu-ersatz-wk/
LOCATION:Stützpunkt N20a\, Neuenkirchstrasse 20a\, Emmen\, 6020\, Switzerland
CATEGORIES:Betreu
END:VEVENT
BEGIN:VEVENT
DTSTART;TZID=Europe/Paris:20241028T090000
DTEND;TZID=Europe/Paris:20241028T180000
DTSTAMP:20260422T183744
CREATED:20240126T064542Z
LAST-MODIFIED:20240126T070758Z
UID:8037-1730106000-1730138400@www.zsoemme.ch
SUMMARY:KVK 1 FU Ersatz - WK
DESCRIPTION:
URL:https://www.zsoemme.ch/kalender/kvk-1-fu-ersatz-wk/
LOCATION:Stützpunkt N20a\, Neuenkirchstrasse 20a\, Emmen\, 6020\, Switzerland
CATEGORIES:FU
END:VEVENT
BEGIN:VEVENT
DTSTART;TZID=Europe/Paris:20241028T080000
DTEND;TZID=Europe/Paris:20241028T180000
DTSTAMP:20260422T183744
CREATED:20240126T064546Z
LAST-MODIFIED:20240126T085154Z
UID:8040-1730102400-1730138400@www.zsoemme.ch
SUMMARY:WK 31 Vsg FU Z 3 /  KVK Ersatz-WK FU & Betreu
DESCRIPTION:
URL:https://www.zsoemme.ch/kalender/wk-31-vsg-fu-z-3/
CATEGORIES:Logistik
END:VEVENT
BEGIN:VEVENT
DTSTART;TZID=Europe/Paris:20241025T090000
DTEND;TZID=Europe/Paris:20241025T180000
DTSTAMP:20260422T183744
CREATED:20240126T064542Z
LAST-MODIFIED:20240126T080844Z
UID:8035-1729846800-1729879200@www.zsoemme.ch
SUMMARY:KVK 1 Log Zug 8 Mat
DESCRIPTION:
URL:https://www.zsoemme.ch/kalender/kvk-1-log-zug-8-mat/
LOCATION:Stützpunkt N20a\, Neuenkirchstrasse 20a\, Emmen\, 6020\, Switzerland
CATEGORIES:Logistik
END:VEVENT
BEGIN:VEVENT
DTSTART;TZID=Europe/Paris:20241025T090000
DTEND;TZID=Europe/Paris:20241025T180000
DTSTAMP:20260422T183744
CREATED:20240126T064542Z
LAST-MODIFIED:20240126T080844Z
UID:8036-1729846800-1729879200@www.zsoemme.ch
SUMMARY:WK 13 Log Zug 7 Mat
DESCRIPTION:
URL:https://www.zsoemme.ch/kalender/wk-13-log-zug-7-mat/
LOCATION:Stützpunkt N20a\, Neuenkirchstrasse 20a\, Emmen\, 6020\, Switzerland
CATEGORIES:Logistik
END:VEVENT
END:VCALENDAR